{
 "currentVersion": 10.91,
 "serviceDescription": "Basemap/TXGILL013025_sid_TDynamic",
 "name": "Basemap/TXGILL013025_sid_TDynamic",
 "description": "",
 "extent": {
  "xmin": 2715243,
  "ymin": 1.007829675E7,
  "xmax": 2763335.75,
  "ymax": 1.01158515E7,
  "spatialReference": {
   "wkt": "PROJCS[\"NAD_1983_Texas_Central\",GEOGCS[\"GCS_NAD83_1986\",DATUM[\"D_North_American_1983\",SPHEROID[\"GRS_1980\",6378137.0,298.257222101]],PRIMEM[\"Greenwich\",0.0],UNIT[\"Degree\",0.0174532925199433]],PROJECTION[\"Lambert_Conformal_Conic\"],PARAMETER[\"false_easting\",2296583.33333331],PARAMETER[\"false_northing\",9842499.999999899],PARAMETER[\"central_meridian\",-100.33333333333],PARAMETER[\"standard_parallel_1\",30.116666666667],PARAMETER[\"standard_parallel_2\",31.883333333333],PARAMETER[\"latitude_of_origin\",29.666666666667],UNIT[\"US Survey Foot\",0.3048006096012192]]"
  }
 },
 "initialExtent": {
  "xmin": 2715243,
  "ymin": 1.007829675E7,
  "xmax": 2763335.75,
  "ymax": 1.01158515E7,
  "spatialReference": {
   "wkt": "PROJCS[\"NAD_1983_Texas_Central\",GEOGCS[\"GCS_NAD83_1986\",DATUM[\"D_North_American_1983\",SPHEROID[\"GRS_1980\",6378137.0,298.257222101]],PRIMEM[\"Greenwich\",0.0],UNIT[\"Degree\",0.0174532925199433]],PROJECTION[\"Lambert_Conformal_Conic\"],PARAMETER[\"false_easting\",2296583.33333331],PARAMETER[\"false_northing\",9842499.999999899],PARAMETER[\"central_meridian\",-100.33333333333],PARAMETER[\"standard_parallel_1\",30.116666666667],PARAMETER[\"standard_parallel_2\",31.883333333333],PARAMETER[\"latitude_of_origin\",29.666666666667],UNIT[\"US Survey Foot\",0.3048006096012192]]"
  }
 },
 "fullExtent": {
  "xmin": 2715243,
  "ymin": 1.007829675E7,
  "xmax": 2763335.75,
  "ymax": 1.01158515E7,
  "spatialReference": {
   "wkt": "PROJCS[\"NAD_1983_Texas_Central\",GEOGCS[\"GCS_NAD83_1986\",DATUM[\"D_North_American_1983\",SPHEROID[\"GRS_1980\",6378137.0,298.257222101]],PRIMEM[\"Greenwich\",0.0],UNIT[\"Degree\",0.0174532925199433]],PROJECTION[\"Lambert_Conformal_Conic\"],PARAMETER[\"false_easting\",2296583.33333331],PARAMETER[\"false_northing\",9842499.999999899],PARAMETER[\"central_meridian\",-100.33333333333],PARAMETER[\"standard_parallel_1\",30.116666666667],PARAMETER[\"standard_parallel_2\",31.883333333333],PARAMETER[\"latitude_of_origin\",29.666666666667],UNIT[\"US Survey Foot\",0.3048006096012192]]"
  }
 },
 "hasMultidimensions": false,
 "pixelSizeX": 0.25,
 "pixelSizeY": 0.25,
 "datasetFormat": "MrSID",
 "uncompressedSize": 115591116996,
 "blockWidth": 1024,
 "blockHeight": 128,
 "compressionType": "Wavelet (MG4)",
 "bandNames": [
  "Band_1",
  "Band_2",
  "Band_3",
  "Band_4"
 ],
 "allowCopy": true,
 "allowAnalysis": true,
 "bandCount": 4,
 "pixelType": "U8",
 "minPixelSize": 0,
 "maxPixelSize": 0,
 "copyrightText": "",
 "serviceDataType": "esriImageServiceDataTypeGeneric",
 "serviceSourceType": "esriImageServiceSourceTypeDataset",
 "minValues": [
  0,
  26,
  22,
  252
 ],
 "maxValues": [
  248,
  238,
  206,
  255
 ],
 "meanValues": [
  122.46219091432,
  117.48778033353,
  99.182719953997,
  254.99238067855
 ],
 "stdvValues": [
  21.741730716398,
  18.188371098155,
  16.205767698274,
  0.12144672285697
 ],
 "objectIdField": "",
 "fields": [],
 "capabilities": "Image,Metadata,Mensuration",
 "defaultMosaicMethod": "Center",
 "allowedMosaicMethods": "",
 "sortField": "",
 "sortValue": null,
 "sortAscending": true,
 "mosaicOperator": "First",
 "defaultCompressionQuality": 75,
 "defaultResamplingMethod": "Bilinear",
 "maxImageHeight": 4100,
 "maxImageWidth": 15000,
 "allowRasterFunction": true,
 "rasterFunctionInfos": [
  {
   "name": "None",
   "description": "",
   "help": ""
  }
 ],
 "rasterTypeInfos": [
  {
   "name": "Raster Dataset",
   "description": "Supports all ArcGIS Raster Datasets",
   "help": ""
  }
 ],
 "mensurationCapabilities": "Basic",
 "hasHistograms": true,
 "hasColormap": false,
 "hasRasterAttributeTable": false,
 "minScale": 0,
 "maxScale": 0,
 "exportTilesAllowed": false,
 "supportsStatistics": false,
 "supportsAdvancedQueries": false,
 "editFieldsInfo": null,
 "ownershipBasedAccessControlForRasters": null,
 "allowComputeTiePoints": false,
 "useStandardizedQueries": true,
 "advancedQueryCapabilities": {
  "useStandardizedQueries": true,
  "supportsStatistics": false,
  "supportsOrderBy": false,
  "supportsDistinct": false,
  "supportsPagination": false
 },
 "spatialReference": {
  "wkt": "PROJCS[\"NAD_1983_Texas_Central\",GEOGCS[\"GCS_NAD83_1986\",DATUM[\"D_North_American_1983\",SPHEROID[\"GRS_1980\",6378137.0,298.257222101]],PRIMEM[\"Greenwich\",0.0],UNIT[\"Degree\",0.0174532925199433]],PROJECTION[\"Lambert_Conformal_Conic\"],PARAMETER[\"false_easting\",2296583.33333331],PARAMETER[\"false_northing\",9842499.999999899],PARAMETER[\"central_meridian\",-100.33333333333],PARAMETER[\"standard_parallel_1\",30.116666666667],PARAMETER[\"standard_parallel_2\",31.883333333333],PARAMETER[\"latitude_of_origin\",29.666666666667],UNIT[\"US Survey Foot\",0.3048006096012192]]"
 }
}
