{
 "currentVersion": 10.91,
 "serviceDescription": "Basemap/TXGILL020034_sid_Dynamic",
 "name": "Basemap/TXGILL020034_sid_Dynamic",
 "description": "",
 "extent": {
  "xmin": 2763335.75,
  "ymin": 1.004194475E7,
  "xmax": 2811528,
  "ymax": 1.007956425E7,
  "spatialReference": {
   "wkt": "PROJCS[\"NAD_1983_Texas_Central\",GEOGCS[\"GCS_NAD83_1986\",DATUM[\"D_North_American_1983\",SPHEROID[\"GRS_1980\",6378137.0,298.257222101]],PRIMEM[\"Greenwich\",0.0],UNIT[\"Degree\",0.0174532925199433]],PROJECTION[\"Lambert_Conformal_Conic\"],PARAMETER[\"false_easting\",2296583.33333331],PARAMETER[\"false_northing\",9842499.999999899],PARAMETER[\"central_meridian\",-100.33333333333],PARAMETER[\"standard_parallel_1\",30.116666666667],PARAMETER[\"standard_parallel_2\",31.883333333333],PARAMETER[\"latitude_of_origin\",29.666666666667],UNIT[\"US Survey Foot\",0.3048006096012192]]"
  }
 },
 "initialExtent": {
  "xmin": 2763335.75,
  "ymin": 1.004194475E7,
  "xmax": 2811528,
  "ymax": 1.007956425E7,
  "spatialReference": {
   "wkt": "PROJCS[\"NAD_1983_Texas_Central\",GEOGCS[\"GCS_NAD83_1986\",DATUM[\"D_North_American_1983\",SPHEROID[\"GRS_1980\",6378137.0,298.257222101]],PRIMEM[\"Greenwich\",0.0],UNIT[\"Degree\",0.0174532925199433]],PROJECTION[\"Lambert_Conformal_Conic\"],PARAMETER[\"false_easting\",2296583.33333331],PARAMETER[\"false_northing\",9842499.999999899],PARAMETER[\"central_meridian\",-100.33333333333],PARAMETER[\"standard_parallel_1\",30.116666666667],PARAMETER[\"standard_parallel_2\",31.883333333333],PARAMETER[\"latitude_of_origin\",29.666666666667],UNIT[\"US Survey Foot\",0.3048006096012192]]"
  }
 },
 "fullExtent": {
  "xmin": 2763335.75,
  "ymin": 1.004194475E7,
  "xmax": 2811528,
  "ymax": 1.007956425E7,
  "spatialReference": {
   "wkt": "PROJCS[\"NAD_1983_Texas_Central\",GEOGCS[\"GCS_NAD83_1986\",DATUM[\"D_North_American_1983\",SPHEROID[\"GRS_1980\",6378137.0,298.257222101]],PRIMEM[\"Greenwich\",0.0],UNIT[\"Degree\",0.0174532925199433]],PROJECTION[\"Lambert_Conformal_Conic\"],PARAMETER[\"false_easting\",2296583.33333331],PARAMETER[\"false_northing\",9842499.999999899],PARAMETER[\"central_meridian\",-100.33333333333],PARAMETER[\"standard_parallel_1\",30.116666666667],PARAMETER[\"standard_parallel_2\",31.883333333333],PARAMETER[\"latitude_of_origin\",29.666666666667],UNIT[\"US Survey Foot\",0.3048006096012192]]"
  }
 },
 "hasMultidimensions": false,
 "pixelSizeX": 0.25,
 "pixelSizeY": 0.25,
 "datasetFormat": "MrSID",
 "uncompressedSize": 116029974328,
 "blockWidth": 1024,
 "blockHeight": 128,
 "compressionType": "Wavelet (MG4)",
 "bandNames": [
  "Band_1",
  "Band_2",
  "Band_3",
  "Band_4"
 ],
 "allowCopy": true,
 "allowAnalysis": true,
 "bandCount": 4,
 "pixelType": "U8",
 "minPixelSize": 0,
 "maxPixelSize": 0,
 "copyrightText": "",
 "serviceDataType": "esriImageServiceDataTypeGeneric",
 "serviceSourceType": "esriImageServiceSourceTypeDataset",
 "minValues": [
  11,
  33,
  17,
  251
 ],
 "maxValues": [
  219,
  198,
  189,
  255
 ],
 "meanValues": [
  127.61578947368,
  119.51095305832,
  94.77453769559,
  254.98648648649
 ],
 "stdvValues": [
  21.1303387536,
  17.231032644764,
  14.99727638738,
  0.14978230586028
 ],
 "objectIdField": "",
 "fields": [],
 "capabilities": "Image,Metadata,Mensuration",
 "defaultMosaicMethod": "Center",
 "allowedMosaicMethods": "",
 "sortField": "",
 "sortValue": null,
 "sortAscending": true,
 "mosaicOperator": "First",
 "defaultCompressionQuality": 75,
 "defaultResamplingMethod": "Bilinear",
 "maxImageHeight": 4100,
 "maxImageWidth": 15000,
 "allowRasterFunction": true,
 "rasterFunctionInfos": [
  {
   "name": "None",
   "description": "",
   "help": ""
  }
 ],
 "rasterTypeInfos": [
  {
   "name": "Raster Dataset",
   "description": "Supports all ArcGIS Raster Datasets",
   "help": ""
  }
 ],
 "mensurationCapabilities": "Basic",
 "hasHistograms": true,
 "hasColormap": false,
 "hasRasterAttributeTable": false,
 "minScale": 0,
 "maxScale": 0,
 "exportTilesAllowed": false,
 "supportsStatistics": false,
 "supportsAdvancedQueries": false,
 "editFieldsInfo": null,
 "ownershipBasedAccessControlForRasters": null,
 "allowComputeTiePoints": false,
 "useStandardizedQueries": true,
 "advancedQueryCapabilities": {
  "useStandardizedQueries": true,
  "supportsStatistics": false,
  "supportsOrderBy": false,
  "supportsDistinct": false,
  "supportsPagination": false
 },
 "spatialReference": {
  "wkt": "PROJCS[\"NAD_1983_Texas_Central\",GEOGCS[\"GCS_NAD83_1986\",DATUM[\"D_North_American_1983\",SPHEROID[\"GRS_1980\",6378137.0,298.257222101]],PRIMEM[\"Greenwich\",0.0],UNIT[\"Degree\",0.0174532925199433]],PROJECTION[\"Lambert_Conformal_Conic\"],PARAMETER[\"false_easting\",2296583.33333331],PARAMETER[\"false_northing\",9842499.999999899],PARAMETER[\"central_meridian\",-100.33333333333],PARAMETER[\"standard_parallel_1\",30.116666666667],PARAMETER[\"standard_parallel_2\",31.883333333333],PARAMETER[\"latitude_of_origin\",29.666666666667],UNIT[\"US Survey Foot\",0.3048006096012192]]"
 }
}
