View In:
ArcGIS JavaScript
ArcGIS Online Map Viewer
ArcGIS Earth
ArcMap
View Footprint In:
ArcGIS Online Map Viewer
Service Description: Basemap/TXGILL013034_sid_Dynamic
Name: Basemap/TXGILL013034_sid_Dynamic
Description:
Single Fused Map Cache: false
Extent:
XMin: 2762844.5
YMin: 1.007889825E7
XMax: 2810986.5
YMax: 1.011651675E7
Spatial Reference: 0
(0)
LatestVCSWkid(0)
Initial Extent:
XMin: 2762844.5
YMin: 1.007889825E7
XMax: 2810986.5
YMax: 1.011651675E7
Spatial Reference: 0
(0)
LatestVCSWkid(0)
Full Extent:
XMin: 2762844.5
YMin: 1.007889825E7
XMax: 2810986.5
YMax: 1.011651675E7
Spatial Reference: 0
(0)
LatestVCSWkid(0)
Pixel Size X: 0.25
Pixel Size Y: 0.25
Band Count: 4
Pixel Type: U8
RasterFunction Infos: {"rasterFunctionInfos": [{
"name": "None",
"description": "",
"help": ""
}]}
Mensuration Capabilities: Basic
Has Histograms: true
Has Colormap: false
Has Multi Dimensions : false
Rendering Rule:
Min Scale: 0
Max Scale: 0
Copyright Text:
Service Data Type: esriImageServiceDataTypeGeneric
Min Values: 7, 42, 25, 252
Max Values: 223, 196, 160, 255
Mean Values: 123.33812233286, 118.79672830725, 99.715362731152, 254.99345661451
Standard Deviation Values: 22.113232726667, 17.942600612782, 15.517912564491, 0.10780296833177
Object ID Field:
Fields:
None
Default Mosaic Method: Center
Allowed Mosaic Methods:
SortField:
SortValue: null
Mosaic Operator: First
Default Compression Quality: 75
Default Resampling Method: Bilinear
Max Record Count: null
Max Image Height: 4100
Max Image Width: 15000
Max Download Image Count: null
Max Mosaic Image Count: null
Allow Raster Function: true
Allow Copy: true
Allow Analysis: true
Allow Compute TiePoints: false
Supports Statistics: false
Supports Advanced Queries: false
Use StandardizedQueries: true
Raster Type Infos:
Name: Raster Dataset
Description: Supports all ArcGIS Raster Datasets
Help:
Has Raster Attribute Table: false
Edit Fields Info: null
Ownership Based AccessControl For Rasters: null
Child Resources:
Info
Histograms
Statistics
Key Properties
Legend
Raster Function Infos
Supported Operations:
Export Image
Identify
Measure
Compute Histograms
Compute Statistics Histograms
Get Samples
Compute Class Statistics
Query Boundary
Compute Pixel Location
Compute Angles
Validate
Project