View In:
ArcGIS JavaScript
ArcGIS Online Map Viewer
ArcGIS Earth
ArcMap
View Footprint In:
ArcGIS Online Map Viewer
Service Description: Basemap/TXGILL013025_sid_TDynamic
Name: Basemap/TXGILL013025_sid_TDynamic
Description:
Single Fused Map Cache: false
Extent:
XMin: 2715243.0
YMin: 1.007829675E7
XMax: 2763335.75
YMax: 1.01158515E7
Spatial Reference: 0
(0)
LatestVCSWkid(0)
Initial Extent:
XMin: 2715243.0
YMin: 1.007829675E7
XMax: 2763335.75
YMax: 1.01158515E7
Spatial Reference: 0
(0)
LatestVCSWkid(0)
Full Extent:
XMin: 2715243.0
YMin: 1.007829675E7
XMax: 2763335.75
YMax: 1.01158515E7
Spatial Reference: 0
(0)
LatestVCSWkid(0)
Pixel Size X: 0.25
Pixel Size Y: 0.25
Band Count: 4
Pixel Type: U8
RasterFunction Infos: {"rasterFunctionInfos": [{
"name": "None",
"description": "",
"help": ""
}]}
Mensuration Capabilities: Basic
Has Histograms: true
Has Colormap: false
Has Multi Dimensions : false
Rendering Rule:
Min Scale: 0
Max Scale: 0
Copyright Text:
Service Data Type: esriImageServiceDataTypeGeneric
Min Values: 0, 26, 22, 252
Max Values: 248, 238, 206, 255
Mean Values: 122.46219091432, 117.48778033353, 99.182719953997, 254.99238067855
Standard Deviation Values: 21.741730716398, 18.188371098155, 16.205767698274, 0.12144672285697
Object ID Field:
Fields:
None
Default Mosaic Method: Center
Allowed Mosaic Methods:
SortField:
SortValue: null
Mosaic Operator: First
Default Compression Quality: 75
Default Resampling Method: Bilinear
Max Record Count: null
Max Image Height: 4100
Max Image Width: 15000
Max Download Image Count: null
Max Mosaic Image Count: null
Allow Raster Function: true
Allow Copy: true
Allow Analysis: true
Allow Compute TiePoints: false
Supports Statistics: false
Supports Advanced Queries: false
Use StandardizedQueries: true
Raster Type Infos:
Name: Raster Dataset
Description: Supports all ArcGIS Raster Datasets
Help:
Has Raster Attribute Table: false
Edit Fields Info: null
Ownership Based AccessControl For Rasters: null
Child Resources:
Info
Histograms
Statistics
Key Properties
Legend
Raster Function Infos
Supported Operations:
Export Image
Identify
Measure
Compute Histograms
Compute Statistics Histograms
Get Samples
Compute Class Statistics
Query Boundary
Compute Pixel Location
Compute Angles
Validate
Project