View In:
ArcGIS JavaScript
ArcGIS Online Map Viewer
ArcGIS Earth
ArcMap
View Footprint In:
ArcGIS Online Map Viewer
Service Description: Basemap/TXGILL020034_sid_Dynamic
Name: Basemap/TXGILL020034_sid_Dynamic
Description:
Single Fused Map Cache: false
Extent:
XMin: 2763335.75
YMin: 1.004194475E7
XMax: 2811528.0
YMax: 1.007956425E7
Spatial Reference: 0
(0)
LatestVCSWkid(0)
Initial Extent:
XMin: 2763335.75
YMin: 1.004194475E7
XMax: 2811528.0
YMax: 1.007956425E7
Spatial Reference: 0
(0)
LatestVCSWkid(0)
Full Extent:
XMin: 2763335.75
YMin: 1.004194475E7
XMax: 2811528.0
YMax: 1.007956425E7
Spatial Reference: 0
(0)
LatestVCSWkid(0)
Pixel Size X: 0.25
Pixel Size Y: 0.25
Band Count: 4
Pixel Type: U8
RasterFunction Infos: {"rasterFunctionInfos": [{
"name": "None",
"description": "",
"help": ""
}]}
Mensuration Capabilities: Basic
Has Histograms: true
Has Colormap: false
Has Multi Dimensions : false
Rendering Rule:
Min Scale: 0
Max Scale: 0
Copyright Text:
Service Data Type: esriImageServiceDataTypeGeneric
Min Values: 11, 33, 17, 251
Max Values: 219, 198, 189, 255
Mean Values: 127.61578947368, 119.51095305832, 94.77453769559, 254.98648648649
Standard Deviation Values: 21.1303387536, 17.231032644764, 14.99727638738, 0.14978230586028
Object ID Field:
Fields:
None
Default Mosaic Method: Center
Allowed Mosaic Methods:
SortField:
SortValue: null
Mosaic Operator: First
Default Compression Quality: 75
Default Resampling Method: Bilinear
Max Record Count: null
Max Image Height: 4100
Max Image Width: 15000
Max Download Image Count: null
Max Mosaic Image Count: null
Allow Raster Function: true
Allow Copy: true
Allow Analysis: true
Allow Compute TiePoints: false
Supports Statistics: false
Supports Advanced Queries: false
Use StandardizedQueries: true
Raster Type Infos:
Name: Raster Dataset
Description: Supports all ArcGIS Raster Datasets
Help:
Has Raster Attribute Table: false
Edit Fields Info: null
Ownership Based AccessControl For Rasters: null
Child Resources:
Info
Histograms
Statistics
Key Properties
Legend
Raster Function Infos
Supported Operations:
Export Image
Identify
Measure
Compute Histograms
Compute Statistics Histograms
Get Samples
Compute Class Statistics
Query Boundary
Compute Pixel Location
Compute Angles
Validate
Project